BEGIN:VCALENDAR
VERSION:2.0
PRODID:-//Klimaschutzverein March e.V. - ECPv6.12.0//NONSGML v1.0//EN
CALSCALE:GREGORIAN
METHOD:PUBLISH
X-WR-CALNAME:Klimaschutzverein March e.V.
X-ORIGINAL-URL:https://klimaschutzverein-march.de/wp
X-WR-CALDESC:Veranstaltungen für Klimaschutzverein March e.V.
REFRESH-INTERVAL;VALUE=DURATION:PT1H
X-Robots-Tag:noindex
X-PUBLISHED-TTL:PT1H
BEGIN:VTIMEZONE
TZID:Europe/Berlin
BEGIN:DAYLIGHT
TZOFFSETFROM:+0100
TZOFFSETTO:+0200
TZNAME:CEST
DTSTART:20250330T010000
END:DAYLIGHT
BEGIN:STANDARD
TZOFFSETFROM:+0200
TZOFFSETTO:+0100
TZNAME:CET
DTSTART:20251026T010000
END:STANDARD
END:VTIMEZONE
BEGIN:VEVENT
DTSTART;TZID=Europe/Berlin:20250529T000000
DTEND;TZID=Europe/Berlin:20250529T235959
DTSTAMP:20260424T172922
CREATED:20250519T191656Z
LAST-MODIFIED:20250519T192833Z
UID:2575-1748476800-1748563199@klimaschutzverein-march.de
SUMMARY:Besuch der Ökomesse Colmar
DESCRIPTION:Um entspannt nach Colmar und zurückzukommen\, treffen wir uns am Bahnhof in Hugstetten um 7:15 Uhr Abfahrt mit der S-Bahn um 7:26 Uhr nach Breisach. \n\n\n\nVon dort radeln wir zuerst zum Cafe Birk nach Neuf Brisach\, um ein kleines Frühstück zu genießen (7-10€). \n\n\n\nAnschließend radeln wir gemütlich nach Colmar\, sodass wir dort kurz nach der Messeeröffnung um 10 Uhr eintreffen werden. \n\n\n\nEinfache Wegstrecke\, überwiegend Radwege/Nebenstraßen ca. 28 km. \n\n\n\nMesseeintritt für Radler/innen 6\,- Euro. \n\n\n\nWeitere Informationen zur Messe unter: https://www.foireecobioalsace.fr/ \n\n\n\nWir treffen politische Vertreter u.a. zum Ausbau der Breisgau S-Bahn nach Colmar\, verkosten nach eigenem Bedarf Biowein\, Bio-Produkte und nehmen an einer PV-Anlagenvorführung teil. \n\n\n\nWeiter Stände der 450 Aussteller können besucht werden. \n\n\n\nZurück voraussichtlich ab z.B. 14 Uhr nach Breisach und dann Umstieg in die S-Bahn. \n\n\n\nMit Bus und Bahn: Hugstetten Colmar Messe: \n\n\n\n1)    Hugstetten mit dem S1 ab 10:41 => 10:57 Uhr Breisach \n\n\n\n2)     Breisach ab Buslinie 68R026 ab 11:20 Uhr = > 12:08 Uhr \n\n\n\n3)     Option 1 :  Mit Bus: Warte 39 min und danach Theater ab Buslinie D 12:47 Uhr => 12:56 Uhr Parc des expositions \n\n\n\n3)        Option 2 :  Zum Fuß Laufen 2.3km (33 Minuten) \n\n\n\nHinweis: Jede/r Radler/in ist für das Fahrrad\, welches für den Straßenverkehr zugelassen ist und für sein Fahrkönnen selbst verantwortlich.
URL:https://klimaschutzverein-march.de/wp/event/besuch-der-oekomesse-colmar/
END:VEVENT
END:VCALENDAR