BEGIN:VCALENDAR
VERSION:2.0
PRODID:-//Klimaschutzverein March e.V. - ECPv6.12.0//NONSGML v1.0//EN
CALSCALE:GREGORIAN
METHOD:PUBLISH
X-ORIGINAL-URL:https://klimaschutzverein-march.de/wp
X-WR-CALDESC:Veranstaltungen für Klimaschutzverein March e.V.
REFRESH-INTERVAL;VALUE=DURATION:PT1H
X-Robots-Tag:noindex
X-PUBLISHED-TTL:PT1H
BEGIN:VTIMEZONE
TZID:Europe/Berlin
BEGIN:DAYLIGHT
TZOFFSETFROM:+0100
TZOFFSETTO:+0200
TZNAME:CEST
DTSTART:20240331T010000
END:DAYLIGHT
BEGIN:STANDARD
TZOFFSETFROM:+0200
TZOFFSETTO:+0100
TZNAME:CET
DTSTART:20241027T010000
END:STANDARD
END:VTIMEZONE
BEGIN:VEVENT
DTSTART;TZID=Europe/Berlin:20240921T153000
DTEND;TZID=Europe/Berlin:20240921T173000
DTSTAMP:20260422T164247
CREATED:20240730T211854Z
LAST-MODIFIED:20240730T211857Z
UID:2506-1726932600-1726939800@klimaschutzverein-march.de
SUMMARY:"Wasser Mar(s)ch: Unterwegs mit dem Wassermeister"
DESCRIPTION:Woher kommt eigentlich das Wasser aus unseren Wasserhähnen und wie wird die Wasserversorgung in der March organisiert? Welche Faktoren haben einen Einfluss auf die Trinkwasserqualität und welche Rolle spielen wir selbst dabei? \n\n\n\nBei einer Exkursion mit dem Wassermeister zum Hochbehälter (Wasserwerk Scheibenbuck) sind wir auf der Suche nach Antworten auf Fragen rund um die Themen Wasserförderung\, -aufbereitung\, -bevorratung und -verteilung in der March.  \n\n\n\nAnmeldung: bis 06.09.24 unter anmeldung@klimaschutzverein-march.de Max. 25 Teilnehmende. Weitere Informationen erhalten Sie nach Anmeldeschluss.
URL:https://klimaschutzverein-march.de/wp/event/wasser-marsch-unterwegs-mit-dem-wassermeister/
LOCATION:Dorfstraße 27\, Hugstetten
END:VEVENT
END:VCALENDAR